Package: PathNet Version: 1.47.0 Command: /Library/Frameworks/R.framework/Resources/bin/R CMD build --keep-empty-dirs --no-resave-data PathNet StartedAt: 2025-02-09 17:53:53 -0500 (Sun, 09 Feb 2025) EndedAt: 2025-02-09 17:55:16 -0500 (Sun, 09 Feb 2025) EllapsedTime: 83.1 seconds RetCode: 0 Status: OK PackageFile: PathNet_1.47.0.tar.gz PackageFileSize: 824.1 KiB