Package: PathNet Version: 1.47.0 Command: /Library/Frameworks/R.framework/Resources/bin/R CMD INSTALL PathNet StartedAt: 2025-02-09 15:05:34 -0500 (Sun, 09 Feb 2025) EndedAt: 2025-02-09 15:05:57 -0500 (Sun, 09 Feb 2025) EllapsedTime: 22.9 seconds RetCode: 0 Status: OK