Package: PathNet Version: 1.47.0 Command: /home/biocbuild/bbs-3.21-bioc/R/bin/R CMD build --keep-empty-dirs --no-resave-data PathNet StartedAt: 2025-02-09 18:36:06 -0500 (Sun, 09 Feb 2025) EndedAt: 2025-02-09 18:37:06 -0500 (Sun, 09 Feb 2025) EllapsedTime: 60.1 seconds RetCode: 0 Status: OK PackageFile: PathNet_1.47.0.tar.gz PackageFileSize: 823.9 KiB