Package: PathNet Version: 1.47.0 Command: /home/biocbuild/bbs-3.21-bioc/R/bin/R CMD check --install=check:PathNet.install-out.txt --library=/home/biocbuild/bbs-3.21-bioc/R/site-library --timings PathNet_1.47.0.tar.gz StartedAt: 2025-02-10 01:10:39 -0500 (Mon, 10 Feb 2025) EndedAt: 2025-02-10 01:12:44 -0500 (Mon, 10 Feb 2025) EllapsedTime: 124.2 seconds RetCode: 0 Status: OK CheckDir: PathNet.Rcheck Warnings: 0