Package: PathNet Version: 1.47.0 Command: rm -rf PathNet.buildbin-libdir && mkdir PathNet.buildbin-libdir && E:\biocbuild\bbs-3.21-bioc\R\bin\R.exe CMD INSTALL --build --library=PathNet.buildbin-libdir PathNet_1.47.0.tar.gz StartedAt: 2025-02-10 08:21:21 -0500 (Mon, 10 Feb 2025) EndedAt: 2025-02-10 08:21:30 -0500 (Mon, 10 Feb 2025) EllapsedTime: 9.1 seconds RetCode: 0 Status: OK PackageFile: PathNet_1.47.0.zip PackageFileSize: 233.2 KiB