Package: PathNet Version: 1.47.0 Command: chmod a+r PathNet -R && E:\biocbuild\bbs-3.21-bioc\R\bin\R.exe CMD build --keep-empty-dirs --no-resave-data PathNet StartedAt: 2025-02-09 20:37:26 -0500 (Sun, 09 Feb 2025) EndedAt: 2025-02-09 20:38:37 -0500 (Sun, 09 Feb 2025) EllapsedTime: 71.1 seconds RetCode: 0 Status: OK PackageFile: PathNet_1.47.0.tar.gz PackageFileSize: 720 KiB