Package: PathNet Version: 1.47.0 Command: E:\biocbuild\bbs-3.21-bioc\R\bin\R.exe CMD check --no-multiarch --install=check:PathNet.install-out.txt --library=E:\biocbuild\bbs-3.21-bioc\R\library --no-vignettes --timings PathNet_1.47.0.tar.gz StartedAt: 2025-02-10 03:57:03 -0500 (Mon, 10 Feb 2025) EndedAt: 2025-02-10 03:58:13 -0500 (Mon, 10 Feb 2025) EllapsedTime: 70.3 seconds RetCode: 0 Status: OK CheckDir: PathNet.Rcheck Warnings: 0