Package: PathNet Version: 1.47.0 Command: E:\biocbuild\bbs-3.21-bioc\R\bin\R.exe CMD INSTALL PathNet StartedAt: 2025-02-09 15:22:09 -0500 (Sun, 09 Feb 2025) EndedAt: 2025-02-09 15:22:16 -0500 (Sun, 09 Feb 2025) EllapsedTime: 6.4 seconds RetCode: 0 Status: OK