Package: PathoStat Version: 1.33.0 Command: /Library/Frameworks/R.framework/Resources/bin/R CMD check --install=check:PathoStat.install-out.txt --library=/Library/Frameworks/R.framework/Resources/library --no-vignettes --timings PathoStat_1.33.0.tar.gz StartedAt: 2025-02-12 20:40:03 -0500 (Wed, 12 Feb 2025) EndedAt: 2025-02-12 20:41:45 -0500 (Wed, 12 Feb 2025) EllapsedTime: 102.2 seconds RetCode: 0 Status: OK CheckDir: PathoStat.Rcheck Warnings: 0