Package: PathoStat Version: 1.33.0 Command: /home/biocbuild/R/R/bin/R CMD build --keep-empty-dirs --no-resave-data PathoStat StartedAt: 2025-01-29 01:11:35 -0000 (Wed, 29 Jan 2025) EndedAt: 2025-01-29 01:12:26 -0000 (Wed, 29 Jan 2025) EllapsedTime: 51.0 seconds RetCode: 0 Status: OK PackageFile: PathoStat_1.33.0.tar.gz PackageFileSize: 948.4 KiB