Package: PathoStat Version: 1.33.0 Command: /home/biocbuild/R/R/bin/R CMD check --install=check:PathoStat.install-out.txt --library=/home/biocbuild/R/R/site-library --no-vignettes --timings PathoStat_1.33.0.tar.gz StartedAt: 2025-01-28 13:45:38 -0000 (Tue, 28 Jan 2025) EndedAt: 2025-01-28 13:51:37 -0000 (Tue, 28 Jan 2025) EllapsedTime: 359.4 seconds RetCode: 0 Status: OK CheckDir: PathoStat.Rcheck Warnings: 0