Package: PathoStat Version: 1.33.0 Command: /home/biocbuild/R/R/bin/R CMD INSTALL PathoStat StartedAt: 2025-01-29 20:23:03 -0000 (Wed, 29 Jan 2025) EndedAt: 2025-01-29 20:23:52 -0000 (Wed, 29 Jan 2025) EllapsedTime: 48.4 seconds RetCode: 0 Status: OK