Package: PathoStat Version: 1.33.0 Command: /Library/Frameworks/R.framework/Resources/bin/R CMD build --keep-empty-dirs --no-resave-data PathoStat StartedAt: 2025-02-12 17:47:10 -0500 (Wed, 12 Feb 2025) EndedAt: 2025-02-12 17:48:21 -0500 (Wed, 12 Feb 2025) EllapsedTime: 71.1 seconds RetCode: 0 Status: OK PackageFile: PathoStat_1.33.0.tar.gz PackageFileSize: 947.9 KiB