Package: PathoStat Version: 1.33.0 Command: rm -rf PathoStat.buildbin-libdir && mkdir PathoStat.buildbin-libdir && E:\biocbuild\bbs-3.21-bioc\R\bin\R.exe CMD INSTALL --build --library=PathoStat.buildbin-libdir PathoStat_1.33.0.tar.gz StartedAt: 2025-02-13 08:31:38 -0500 (Thu, 13 Feb 2025) EndedAt: 2025-02-13 08:32:34 -0500 (Thu, 13 Feb 2025) EllapsedTime: 55.9 seconds RetCode: 0 Status: OK PackageFile: PathoStat_1.33.0.zip PackageFileSize: 1.056 MiB