Package: PeacoQC Version: 1.17.0 Command: /Library/Frameworks/R.framework/Resources/bin/R CMD build --keep-empty-dirs --no-resave-data PeacoQC StartedAt: 2025-02-09 17:55:05 -0500 (Sun, 09 Feb 2025) EndedAt: 2025-02-09 17:56:05 -0500 (Sun, 09 Feb 2025) EllapsedTime: 59.4 seconds RetCode: 0 Status: OK PackageFile: PeacoQC_1.17.0.tar.gz PackageFileSize: 1.521 MiB