Package: PeacoQC Version: 1.17.0 Command: /Library/Frameworks/R.framework/Resources/bin/R CMD check --install=check:PeacoQC.install-out.txt --library=/Library/Frameworks/R.framework/Resources/library --no-vignettes --timings PeacoQC_1.17.0.tar.gz StartedAt: 2025-02-09 22:36:15 -0500 (Sun, 09 Feb 2025) EndedAt: 2025-02-09 22:39:02 -0500 (Sun, 09 Feb 2025) EllapsedTime: 167.1 seconds RetCode: 0 Status: OK CheckDir: PeacoQC.Rcheck Warnings: 0