Package: PeacoQC Version: 1.17.0 Command: /home/biocbuild/bbs-3.21-bioc/R/bin/R CMD build --keep-empty-dirs --no-resave-data PeacoQC StartedAt: 2025-02-09 18:37:09 -0500 (Sun, 09 Feb 2025) EndedAt: 2025-02-09 18:38:01 -0500 (Sun, 09 Feb 2025) EllapsedTime: 52.0 seconds RetCode: 0 Status: OK PackageFile: PeacoQC_1.17.0.tar.gz PackageFileSize: 1.521 MiB