Package: Pedixplorer Version: 1.3.0 Command: /Library/Frameworks/R.framework/Resources/bin/R CMD build --keep-empty-dirs --no-resave-data Pedixplorer StartedAt: 2025-02-03 17:50:15 -0500 (Mon, 03 Feb 2025) EndedAt: 2025-02-03 17:50:40 -0500 (Mon, 03 Feb 2025) EllapsedTime: 25.3 seconds RetCode: 0 Status: OK PackageFile: Pedixplorer_1.3.0.tar.gz PackageFileSize: 4.483 MiB