Package: Pedixplorer Version: 1.3.0 Command: /Library/Frameworks/R.framework/Resources/bin/R CMD check --install=check:Pedixplorer.install-out.txt --library=/Library/Frameworks/R.framework/Resources/library --no-vignettes --timings Pedixplorer_1.3.0.tar.gz StartedAt: 2025-02-09 20:37:01 -0500 (Sun, 09 Feb 2025) EndedAt: 2025-02-09 20:37:58 -0500 (Sun, 09 Feb 2025) EllapsedTime: 57.7 seconds RetCode: 0 Status: OK CheckDir: Pedixplorer.Rcheck Warnings: 0