Package: Pedixplorer Version: 1.3.0 Command: /home/biocbuild/R/R/bin/R CMD check --install=check:Pedixplorer.install-out.txt --library=/home/biocbuild/R/R/site-library --no-vignettes --timings Pedixplorer_1.3.0.tar.gz StartedAt: 2025-01-28 13:48:45 -0000 (Tue, 28 Jan 2025) EndedAt: 2025-01-28 13:52:12 -0000 (Tue, 28 Jan 2025) EllapsedTime: 207.3 seconds RetCode: 0 Status: OK CheckDir: Pedixplorer.Rcheck Warnings: 0