Package: Pedixplorer Version: 1.3.0 Command: /home/biocbuild/R/R/bin/R CMD INSTALL Pedixplorer StartedAt: 2025-01-29 20:08:32 -0000 (Wed, 29 Jan 2025) EndedAt: 2025-01-29 20:08:56 -0000 (Wed, 29 Jan 2025) EllapsedTime: 24.2 seconds RetCode: 0 Status: OK