Package: Pedixplorer Version: 1.3.0 Command: /Library/Frameworks/R.framework/Resources/bin/R CMD build --keep-empty-dirs --no-resave-data Pedixplorer StartedAt: 2025-02-09 17:55:26 -0500 (Sun, 09 Feb 2025) EndedAt: 2025-02-09 17:56:46 -0500 (Sun, 09 Feb 2025) EllapsedTime: 79.9 seconds RetCode: 0 Status: OK PackageFile: Pedixplorer_1.3.0.tar.gz PackageFileSize: 4.481 MiB