Package: Pedixplorer Version: 1.3.0 Command: /Library/Frameworks/R.framework/Resources/bin/R CMD INSTALL Pedixplorer StartedAt: 2025-02-09 15:26:34 -0500 (Sun, 09 Feb 2025) EndedAt: 2025-02-09 15:26:59 -0500 (Sun, 09 Feb 2025) EllapsedTime: 25.2 seconds RetCode: 0 Status: OK