Package: Pedixplorer Version: 1.3.0 Command: /home/biocbuild/bbs-3.21-bioc/R/bin/R CMD build --keep-empty-dirs --no-resave-data Pedixplorer StartedAt: 2025-02-09 18:37:51 -0500 (Sun, 09 Feb 2025) EndedAt: 2025-02-09 18:38:59 -0500 (Sun, 09 Feb 2025) EllapsedTime: 68.1 seconds RetCode: 0 Status: OK PackageFile: Pedixplorer_1.3.0.tar.gz PackageFileSize: 4.64 MiB