Package: Pedixplorer Version: 1.3.0 Command: /home/biocbuild/bbs-3.21-bioc/R/bin/R CMD check --install=check:Pedixplorer.install-out.txt --library=/home/biocbuild/bbs-3.21-bioc/R/site-library --timings Pedixplorer_1.3.0.tar.gz StartedAt: 2025-02-10 01:13:08 -0500 (Mon, 10 Feb 2025) EndedAt: 2025-02-10 01:16:45 -0500 (Mon, 10 Feb 2025) EllapsedTime: 217.3 seconds RetCode: 0 Status: OK CheckDir: Pedixplorer.Rcheck Warnings: 0