Package: Pedixplorer Version: 1.3.0 Command: /home/biocbuild/bbs-3.21-bioc/R/bin/R CMD INSTALL Pedixplorer StartedAt: 2025-02-09 15:12:47 -0500 (Sun, 09 Feb 2025) EndedAt: 2025-02-09 15:13:03 -0500 (Sun, 09 Feb 2025) EllapsedTime: 16.4 seconds RetCode: 0 Status: OK