Package: Pedixplorer Version: 1.3.0 Command: rm -rf Pedixplorer.buildbin-libdir && mkdir Pedixplorer.buildbin-libdir && E:\biocbuild\bbs-3.21-bioc\R\bin\R.exe CMD INSTALL --build --library=Pedixplorer.buildbin-libdir Pedixplorer_1.3.0.tar.gz StartedAt: 2025-02-04 08:34:55 -0500 (Tue, 04 Feb 2025) EndedAt: 2025-02-04 08:37:53 -0500 (Tue, 04 Feb 2025) EllapsedTime: 177.7 seconds RetCode: 0 Status: OK PackageFile: Pedixplorer_1.3.0.zip PackageFileSize: 3.041 MiB