Package: Pedixplorer Version: 1.3.0 Command: chmod a+r Pedixplorer -R && E:\biocbuild\bbs-3.21-bioc\R\bin\R.exe CMD build --keep-empty-dirs --no-resave-data Pedixplorer StartedAt: 2025-02-09 20:40:39 -0500 (Sun, 09 Feb 2025) EndedAt: 2025-02-09 20:43:39 -0500 (Sun, 09 Feb 2025) EllapsedTime: 179.6 seconds RetCode: 0 Status: OK PackageFile: Pedixplorer_1.3.0.tar.gz PackageFileSize: 3.598 MiB