Package: Pedixplorer Version: 1.3.0 Command: E:\biocbuild\bbs-3.21-bioc\R\bin\R.exe CMD INSTALL Pedixplorer StartedAt: 2025-02-03 15:59:17 -0500 (Mon, 03 Feb 2025) EndedAt: 2025-02-03 16:02:09 -0500 (Mon, 03 Feb 2025) EllapsedTime: 172.0 seconds RetCode: 0 Status: OK