Package: PhIPData Version: 1.15.0 Command: rm -rf PhIPData.buildbin-libdir && mkdir PhIPData.buildbin-libdir && /Users/biocbuild/BBS/utils/build-universal.sh PhIPData_1.15.0.tar.gz /Library/Frameworks/R.framework/Resources/bin/R PhIPData.buildbin-libdir StartedAt: 2025-02-09 22:25:08 -0500 (Sun, 09 Feb 2025) EndedAt: 2025-02-09 22:25:21 -0500 (Sun, 09 Feb 2025) EllapsedTime: 12.3 seconds RetCode: 0 Status: OK PackageFile: PhIPData_1.15.0.tgz PackageFileSize: 1.202 MiB