Package: PhIPData Version: 1.15.0 Command: /home/biocbuild/R/R/bin/R CMD INSTALL PhIPData StartedAt: 2025-01-29 19:44:28 -0000 (Wed, 29 Jan 2025) EndedAt: 2025-01-29 19:45:06 -0000 (Wed, 29 Jan 2025) EllapsedTime: 38.5 seconds RetCode: 0 Status: OK