Package: PhIPData Version: 1.15.0 Command: /Library/Frameworks/R.framework/Resources/bin/R CMD check --install=check:PhIPData.install-out.txt --library=/Library/Frameworks/R.framework/Resources/library --no-vignettes --timings PhIPData_1.15.0.tar.gz StartedAt: 2025-02-04 22:23:53 -0500 (Tue, 04 Feb 2025) EndedAt: 2025-02-04 22:28:01 -0500 (Tue, 04 Feb 2025) EllapsedTime: 247.5 seconds RetCode: 0 Status: OK CheckDir: PhIPData.Rcheck Warnings: 0