Package: PhIPData Version: 1.15.0 Command: /Library/Frameworks/R.framework/Resources/bin/R CMD INSTALL PhIPData StartedAt: 2025-02-09 15:13:27 -0500 (Sun, 09 Feb 2025) EndedAt: 2025-02-09 15:14:04 -0500 (Sun, 09 Feb 2025) EllapsedTime: 37.3 seconds RetCode: 0 Status: OK