Package: PhIPData Version: 1.15.0 Command: /home/biocbuild/bbs-3.21-bioc/R/bin/R CMD check --install=check:PhIPData.install-out.txt --library=/home/biocbuild/bbs-3.21-bioc/R/site-library --timings PhIPData_1.15.0.tar.gz StartedAt: 2025-02-10 01:17:52 -0500 (Mon, 10 Feb 2025) EndedAt: 2025-02-10 01:21:47 -0500 (Mon, 10 Feb 2025) EllapsedTime: 235.4 seconds RetCode: 0 Status: OK CheckDir: PhIPData.Rcheck Warnings: 0