Package: PhIPData Version: 1.15.0 Command: /home/biocbuild/bbs-3.21-bioc/R/bin/R CMD INSTALL PhIPData StartedAt: 2025-02-09 15:49:15 -0500 (Sun, 09 Feb 2025) EndedAt: 2025-02-09 15:49:44 -0500 (Sun, 09 Feb 2025) EllapsedTime: 28.2 seconds RetCode: 0 Status: OK