Package: PhIPData Version: 1.15.0 Command: rm -rf PhIPData.buildbin-libdir && mkdir PhIPData.buildbin-libdir && E:\biocbuild\bbs-3.21-bioc\R\bin\R.exe CMD INSTALL --build --library=PhIPData.buildbin-libdir PhIPData_1.15.0.tar.gz StartedAt: 2025-02-04 08:35:44 -0500 (Tue, 04 Feb 2025) EndedAt: 2025-02-04 08:36:37 -0500 (Tue, 04 Feb 2025) EllapsedTime: 53.4 seconds RetCode: 0 Status: OK PackageFile: PhIPData_1.15.0.zip PackageFileSize: 1.203 MiB