Package: PhIPData Version: 1.15.0 Command: chmod a+r PhIPData -R && E:\biocbuild\bbs-3.21-bioc\R\bin\R.exe CMD build --keep-empty-dirs --no-resave-data PhIPData StartedAt: 2025-02-09 20:44:50 -0500 (Sun, 09 Feb 2025) EndedAt: 2025-02-09 20:45:46 -0500 (Sun, 09 Feb 2025) EllapsedTime: 56.3 seconds RetCode: 0 Status: OK PackageFile: PhIPData_1.15.0.tar.gz PackageFileSize: 821 KiB