Package: PhIPData Version: 1.15.0 Command: E:\biocbuild\bbs-3.21-bioc\R\bin\R.exe CMD INSTALL PhIPData StartedAt: 2025-02-03 16:21:56 -0500 (Mon, 03 Feb 2025) EndedAt: 2025-02-03 16:22:42 -0500 (Mon, 03 Feb 2025) EllapsedTime: 46.0 seconds RetCode: 0 Status: OK