Package: PharmacoGx Version: 3.11.1 Command: /Library/Frameworks/R.framework/Resources/bin/R CMD check --install=check:PharmacoGx.install-out.txt --library=/Library/Frameworks/R.framework/Resources/library --no-vignettes --timings PharmacoGx_3.11.1.tar.gz StartedAt: 2025-02-09 20:38:02 -0500 (Sun, 09 Feb 2025) EndedAt: 2025-02-09 20:40:06 -0500 (Sun, 09 Feb 2025) EllapsedTime: 123.4 seconds RetCode: 1 Status: ERROR CheckDir: PharmacoGx.Rcheck Warnings: NA