Package: PharmacoGx Version: 3.11.1 Command: /home/biocbuild/R/R/bin/R CMD build --keep-empty-dirs --no-resave-data PharmacoGx StartedAt: 2025-01-29 01:15:41 -0000 (Wed, 29 Jan 2025) EndedAt: 2025-01-29 01:17:37 -0000 (Wed, 29 Jan 2025) EllapsedTime: 116.1 seconds RetCode: 0 Status: OK PackageFile: PharmacoGx_3.11.1.tar.gz PackageFileSize: 4.496 MiB