Package: PharmacoGx Version: 3.11.1 Command: /home/biocbuild/R/R/bin/R CMD check --install=check:PharmacoGx.install-out.txt --library=/home/biocbuild/R/R/site-library --no-vignettes --timings PharmacoGx_3.11.1.tar.gz StartedAt: 2025-01-28 13:51:49 -0000 (Tue, 28 Jan 2025) EndedAt: 2025-01-28 14:00:16 -0000 (Tue, 28 Jan 2025) EllapsedTime: 506.5 seconds RetCode: 0 Status: OK CheckDir: PharmacoGx.Rcheck Warnings: 0