Package: PharmacoGx Version: 3.11.1 Command: /home/biocbuild/R/R/bin/R CMD INSTALL PharmacoGx StartedAt: 2025-01-29 20:20:01 -0000 (Wed, 29 Jan 2025) EndedAt: 2025-01-29 20:21:03 -0000 (Wed, 29 Jan 2025) EllapsedTime: 61.9 seconds RetCode: 0 Status: OK