Package: PharmacoGx Version: 3.11.1 Command: /Library/Frameworks/R.framework/Resources/bin/R CMD build --keep-empty-dirs --no-resave-data PharmacoGx StartedAt: 2025-02-04 17:49:49 -0500 (Tue, 04 Feb 2025) EndedAt: 2025-02-04 17:51:32 -0500 (Tue, 04 Feb 2025) EllapsedTime: 102.8 seconds RetCode: 0 Status: OK PackageFile: PharmacoGx_3.11.1.tar.gz PackageFileSize: 4.426 MiB