Package: PharmacoGx Version: 3.11.1 Command: /home/biocbuild/bbs-3.21-bioc/R/bin/R CMD check --install=check:PharmacoGx.install-out.txt --library=/home/biocbuild/bbs-3.21-bioc/R/site-library --timings PharmacoGx_3.11.1.tar.gz StartedAt: 2025-02-05 01:23:44 -0500 (Wed, 05 Feb 2025) EndedAt: 2025-02-05 01:30:04 -0500 (Wed, 05 Feb 2025) EllapsedTime: 380.6 seconds RetCode: 1 Status: ERROR CheckDir: PharmacoGx.Rcheck Warnings: NA