Package: PharmacoGx Version: 3.11.1 Command: /home/biocbuild/bbs-3.21-bioc/R/bin/R CMD INSTALL PharmacoGx StartedAt: 2025-02-04 15:21:55 -0500 (Tue, 04 Feb 2025) EndedAt: 2025-02-04 15:22:36 -0500 (Tue, 04 Feb 2025) EllapsedTime: 41.3 seconds RetCode: 0 Status: OK