Package: PharmacoGx Version: 3.11.1 Command: rm -rf PharmacoGx.buildbin-libdir && mkdir PharmacoGx.buildbin-libdir && E:\biocbuild\bbs-3.21-bioc\R\bin\R.exe CMD INSTALL --build --library=PharmacoGx.buildbin-libdir PharmacoGx_3.11.1.tar.gz StartedAt: 2025-02-05 08:34:29 -0500 (Wed, 05 Feb 2025) EndedAt: 2025-02-05 08:36:37 -0500 (Wed, 05 Feb 2025) EllapsedTime: 128.5 seconds RetCode: 0 Status: OK PackageFile: PharmacoGx_3.11.1.zip PackageFileSize: 4.156 MiB