Package: PharmacoGx Version: 3.11.1 Command: chmod a+r PharmacoGx -R && E:\biocbuild\bbs-3.21-bioc\R\bin\R.exe CMD build --keep-empty-dirs --no-resave-data PharmacoGx StartedAt: 2025-02-04 20:45:35 -0500 (Tue, 04 Feb 2025) EndedAt: 2025-02-04 20:47:50 -0500 (Tue, 04 Feb 2025) EllapsedTime: 134.9 seconds RetCode: 0 Status: OK PackageFile: PharmacoGx_3.11.1.tar.gz PackageFileSize: 4.422 MiB