Package: PharmacoGx Version: 3.11.1 Command: E:\biocbuild\bbs-3.21-bioc\R\bin\R.exe CMD check --no-multiarch --install=check:PharmacoGx.install-out.txt --library=E:\biocbuild\bbs-3.21-bioc\R\library --no-vignettes --timings PharmacoGx_3.11.1.tar.gz StartedAt: 2025-02-05 04:28:38 -0500 (Wed, 05 Feb 2025) EndedAt: 2025-02-05 04:35:10 -0500 (Wed, 05 Feb 2025) EllapsedTime: 392.5 seconds RetCode: 1 Status: ERROR CheckDir: PharmacoGx.Rcheck Warnings: NA