Package: PharmacoGx Version: 3.11.1 Command: E:\biocbuild\bbs-3.21-bioc\R\bin\R.exe CMD INSTALL PharmacoGx StartedAt: 2025-02-04 16:33:39 -0500 (Tue, 04 Feb 2025) EndedAt: 2025-02-04 16:35:32 -0500 (Tue, 04 Feb 2025) EllapsedTime: 112.9 seconds RetCode: 0 Status: OK