Package: PhenStat Version: 2.43.0 Maintainer: Hamed Haselimashhadi MaintainerEmail: hamedhm at ebi.ac.uk git_url: https://git.bioconductor.org/packages/PhenStat git_branch: devel git_last_commit: 59cb12c git_last_commit_date: 2024-10-29 09:49:35 -0500 (Tue, 29 Oct 2024)